BEGIN:VCALENDAR
VERSION:2.0
PRODID:-//XIONI//
METHOD:PUBLISH
BEGIN:VEVENT
UID:33156@www.rheingau.de
ORGANIZER;CN="Rheingau.de":MAILTO:
LOCATION:Landhaus Kenner, 65385 Assmannshausen
SUMMARY:Straußwirtschaft
DESCRIPTION:Wir laden euch herzlich in unsere Straußwirtschaft ein!
CLASS:PUBLIC
DTSTART;VALUE=DATE:20260510
DTEND;VALUE=DATE:20260511
DTSTAMP:20260423T201243
END:VEVENT
END:VCALENDAR
