BEGIN:VCALENDAR
VERSION:2.0
PRODID:-//XIONI//
METHOD:PUBLISH
BEGIN:VEVENT
UID:33153@www.rheingau.de
ORGANIZER;CN="Rheingau.de":MAILTO:
LOCATION:Landhaus Kenner, 65385 Assmannshausen
SUMMARY:Straußwirtschaft
DESCRIPTION:Wir laden euch herzlich in unsere Straußwirtschaft ein!
CLASS:PUBLIC
DTSTART;VALUE=DATE:20260502
DTEND;VALUE=DATE:20260503
DTSTAMP:20260423T201401
END:VEVENT
END:VCALENDAR
