BEGIN:VCALENDAR
VERSION:2.0
PRODID:-//XIONI//
METHOD:PUBLISH
BEGIN:VEVENT
UID:33151@www.rheingau.de
ORGANIZER;CN="Rheingau.de":MAILTO:
LOCATION:Nothgottesstraße 33, 65366 Geisenheim
SUMMARY:Jahrgangsverkostung 2025
DESCRIPTION:Jahrgangsverkostung in der Vinothek: Montag, Mittwoch und Donnerstag von 17-19 Uhr Samstag, Sonntag und am 01. Mai von 15-19 Uhr - ohne Anmeldung -
CLASS:PUBLIC
DTSTART;VALUE=DATE:20260424
DTEND;VALUE=DATE:20260504
DTSTAMP:20260423T141331
END:VEVENT
END:VCALENDAR
