BEGIN:VCALENDAR
VERSION:2.0
PRODID:-//XIONI//
METHOD:PUBLISH
BEGIN:VEVENT
UID:33149@www.rheingau.de
ORGANIZER;CN="Rheingau.de":MAILTO:
LOCATION:Nothgottesstraße 33, 65366 Geisenheim
SUMMARY:FISCH & WEIN
DESCRIPTION:Jörg Hansen und sein Team kommen 2026 wieder zu FISCH & WEIN in unser Weingut nach Geisenheim: Der Gewinner der „Goldenen Kochmütze“ und „Koch des Jahres“ aus dem Hotel Seelust in Cuxhaven wird uns seine Fisch-Kochkünste demonstrieren.
CLASS:PUBLIC
DTSTART;VALUE=DATE:20261024
DTEND;VALUE=DATE:20261025
DTSTAMP:20260423T141331
END:VEVENT
END:VCALENDAR
