BEGIN:VCALENDAR
VERSION:2.0
PRODID:-//XIONI//
METHOD:PUBLISH
BEGIN:VEVENT
UID:33145@www.rheingau.de
ORGANIZER;CN="Rheingau.de":MAILTO:
LOCATION:Nothgottesstraße 33, 65366 Geisenheim
SUMMARY:MARTINSGANS-MENÜ
DESCRIPTION:Gemeinsam mit Rotkohl, Schmorapfel, Maronen, Klößen und Sauce servieren wir die Gans im 3-Gang-Menü inkl. Vorspeise und Dessert zum Preis von 65 Euro pro Person. Auch an eine fleischlose Alternative wurde gedacht.
CLASS:PUBLIC
DTSTART;VALUE=DATE:20261106
DTEND;VALUE=DATE:20261107
DTSTAMP:20260423T135105
END:VEVENT
END:VCALENDAR
