BEGIN:VCALENDAR
VERSION:2.0
PRODID:-//XIONI//
METHOD:PUBLISH
BEGIN:VEVENT
UID:33143@www.rheingau.de
ORGANIZER;CN="Rheingau.de":MAILTO:
LOCATION:Am Lindenplatz 2, 65375 Oestrich-Winkel
SUMMARY:Goethes Besuch im Rheingau
DESCRIPTION:Johann Wolfgang von Goethe hatte enge Beziehungen zu Antonia und Franz Brentano, den Eigentümern des Brentano-Haues, die ihn in ihr Sommerdomizil einluden.
CLASS:PUBLIC
DTSTART;VALUE=DATE:20260704
DTEND;VALUE=DATE:20260705
DTSTAMP:20260422T155133
END:VEVENT
END:VCALENDAR
