BEGIN:VCALENDAR
VERSION:2.0
PRODID:-//XIONI//
METHOD:PUBLISH
BEGIN:VEVENT
UID:33142@www.rheingau.de
ORGANIZER;CN="Rheingau.de":MAILTO:
LOCATION:Am Lindenplatz 2, 65375 Oestrich-Winkel
SUMMARY:Literarischer Lustwandel durch den Laubengang ins Badehaus
DESCRIPTION:Angela von Brentano, die ehemalige Hausherrin des Anwesens, unternimmt einen literarischen Lustwandel durch die Außenanlagen des Brentano-Hauses.
CLASS:PUBLIC
DTSTART;VALUE=DATE:20261003
DTEND;VALUE=DATE:20261004
DTSTAMP:20260422T155030
END:VEVENT
END:VCALENDAR
