BEGIN:VCALENDAR
VERSION:2.0
PRODID:-//XIONI//
METHOD:PUBLISH
BEGIN:VEVENT
UID:33139@www.rheingau.de
ORGANIZER;CN="Rheingau.de":MAILTO:
LOCATION:
SUMMARY:Pause vom Alltag – und sich selbst neu begegnen
DESCRIPTION:Der Rheingau lädt ein zum Genießen, Entschleunigen und tief Atmen. Genau hier- zwischen Weinbergen, Rhein und Stille- findet unser 3-tägiger Bildungsurlaubs-Workshop statt:
CLASS:PUBLIC
DTSTART;VALUE=DATE:20260617
DTEND;VALUE=DATE:20260620
DTSTAMP:20260422T142548
END:VEVENT
END:VCALENDAR
