BEGIN:VCALENDAR
VERSION:2.0
PRODID:-//XIONI//
METHOD:PUBLISH
BEGIN:VEVENT
UID:33138@www.rheingau.de
ORGANIZER;CN="Rheingau.de":MAILTO:
LOCATION:
SUMMARY:Erlebt Johannisbergs  neue Wein Runde!
DESCRIPTION:Die Johannisberger Weinkritik und der Johannisberger Weinbauverein laden ein zur ersten geführten Weinwanderung mit vielen Geschichten rund um Johannisberg, Riesling & Spätlese.
CLASS:PUBLIC
DTSTART;VALUE=DATE:20260501
DTEND;VALUE=DATE:20260502
DTSTAMP:20260422T134316
END:VEVENT
END:VCALENDAR
