BEGIN:VCALENDAR
VERSION:2.0
PRODID:-//XIONI//
METHOD:PUBLISH
BEGIN:VEVENT
UID:33137@www.rheingau.de
ORGANIZER;CN="Rheingau.de":MAILTO:
LOCATION:Chauvignystr. 25, 65366 Geisenheim
SUMMARY:"VON JERUSALEM ÜBER ANTIOCHIA, ALEXANDRIA BIS WITTENBERG UND HEUTE" TEIL 2
DESCRIPTION:Warum ist in der frühen Kirche schon so viel falsch gelaufen, warum ist die Kirche in den ersten Jahrhunderten nach Christus bereits so oft falsch abgebogen und hat die "gesunde Lehre", von der Paulus spricht, verlassen?
CLASS:PUBLIC
DTSTART;VALUE=DATE:20260425
DTEND;VALUE=DATE:20260426
DTSTAMP:20260422T140239
END:VEVENT
END:VCALENDAR
