BEGIN:VCALENDAR
VERSION:2.0
PRODID:-//XIONI//
METHOD:PUBLISH
BEGIN:VEVENT
UID:33136@www.rheingau.de
ORGANIZER;CN="Rheingau.de":MAILTO:
LOCATION:Am Lindenplatz 2, 65375 Oestrich-Winkel
SUMMARY:Dr. Claudia Bamberg: Beziehung zwischen August Wilhelm Schlegel und Germaine de Staël
DESCRIPTION:Das spannungsreiche Verhältnis zwischen dem romantischen Autor August Wilhelm Schlegel (1767–1845) und der französischen Autorin Germaine de Staël (1766–1817) hat immer wieder die Forschung beschäftigt.
CLASS:PUBLIC
DTSTART;VALUE=DATE:20260823
DTEND;VALUE=DATE:20260824
DTSTAMP:20260422T140204
END:VEVENT
END:VCALENDAR
