BEGIN:VCALENDAR
VERSION:2.0
PRODID:-//XIONI//
METHOD:PUBLISH
BEGIN:VEVENT
UID:33135@www.rheingau.de
ORGANIZER;CN="Rheingau.de":MAILTO:
LOCATION:Am Lindenplatz 2, 65375 Oestrich-Winkel
SUMMARY:Dr. Ute Weinmann: Freundschaft und utopische Frauenliebe zwischen Bettine Brentano und Karoline von Günderrode
DESCRIPTION:Nach Bettines Erinnerung lernte sie die damals 20-jährige Karoline von Günderrode 1800 bei ihrer Großmutter (der Schriftstellerin Sophie von La Roche) in Offenbach kennen.
CLASS:PUBLIC
DTSTART;VALUE=DATE:20260719
DTEND;VALUE=DATE:20260720
DTSTAMP:20260421T181256
END:VEVENT
END:VCALENDAR
