BEGIN:VCALENDAR
VERSION:2.0
PRODID:-//XIONI//
METHOD:PUBLISH
BEGIN:VEVENT
UID:33134@www.rheingau.de
ORGANIZER;CN="Rheingau.de":MAILTO:
LOCATION:Am Lindenplatz 2, 65375 Oestrich-Winkel
SUMMARY:Angela von Brentano: Die „Herzensbrüder“ Clemens Brentano und Achim von Arnim
DESCRIPTION:Etwa im ersten Jahrzehnt des 19. Jahrhunderts entwickelten sich Dutzende von Freundschaften und Seelenverwandtschaften, die auch untereinander mehr oder weniger intensive Kontakte und Beziehungen pflegten.
CLASS:PUBLIC
DTSTART;VALUE=DATE:20260614
DTEND;VALUE=DATE:20260615
DTSTAMP:20260421T180814
END:VEVENT
END:VCALENDAR
