BEGIN:VCALENDAR
VERSION:2.0
PRODID:-//XIONI//
METHOD:PUBLISH
BEGIN:VEVENT
UID:33133@www.rheingau.de
ORGANIZER;CN="Rheingau.de":MAILTO:
LOCATION:
SUMMARY:Mutmacher Abend
DESCRIPTION:im Weingut Hirt-Gebhardt ab 18 Uhr
CLASS:PUBLIC
DTSTART;VALUE=DATE:20260616
DTEND;VALUE=DATE:20260617
DTSTAMP:20260421T181033
END:VEVENT
END:VCALENDAR
