BEGIN:VCALENDAR
VERSION:2.0
PRODID:-//XIONI//
METHOD:PUBLISH
BEGIN:VEVENT
UID:33132@www.rheingau.de
ORGANIZER;CN="Rheingau.de":MAILTO:
LOCATION:Weiderweg 1, 65347 Hattenheim
SUMMARY:Rheingauer Schlemmerwoche
DESCRIPTION:Genießen sie herrliche Stunden auf unserer Terrasse & Garten unseres Weinguts mit Blick auf die Weinberge - so machen die Feierabende gleich viel mehr Spaß. Wir werden wie gewohnt für beste Verpflegung und gute Stimmung garantieren.
CLASS:PUBLIC
DTSTART;VALUE=DATE:20260424
DTEND;VALUE=DATE:20260504
DTSTAMP:20260422T134341
END:VEVENT
END:VCALENDAR
