BEGIN:VCALENDAR
VERSION:2.0
PRODID:-//XIONI//
METHOD:PUBLISH
BEGIN:VEVENT
UID:33129@www.rheingau.de
ORGANIZER;CN="Rheingau.de":MAILTO:
LOCATION:, 65346 Eltville am Rhein
SUMMARY:After Work am Schwarzen Häuschen
DESCRIPTION:After Work am Schwarzen Häuschen mit Musik & Wein.
CLASS:PUBLIC
DTSTART;VALUE=DATE:20260611
DTEND;VALUE=DATE:20260612
DTSTAMP:20260420T205508
END:VEVENT
END:VCALENDAR
