BEGIN:VCALENDAR
VERSION:2.0
PRODID:-//XIONI//
METHOD:PUBLISH
BEGIN:VEVENT
UID:33128@www.rheingau.de
ORGANIZER;CN="Rheingau.de":MAILTO:
LOCATION:, 65346 Eltville am Rhein
SUMMARY:After Work am Schwarzen Häuschen
DESCRIPTION:After Work am Schwarzen Häuschen mit Musik & Wein.
CLASS:PUBLIC
DTSTART;VALUE=DATE:20260624
DTEND;VALUE=DATE:20260625
DTSTAMP:20260420T203543
END:VEVENT
END:VCALENDAR
